BEGIN:VCALENDAR
METHOD:PUBLISH
PRODID:-//doubleknot.com//CalenderEvent MIMEDIR//EN
VERSION:2.0
BEGIN:VEVENT
UID:3143559-20260509T210000Z-20260509T214500Z@doubleknot.com
CREATED:20260414T175800Z
LAST-MODIFIED:20260417T225455Z
DTSTAMP:20260424T085657Z
DTSTART:20260509T210000Z
DTEND:20260509T214500Z
LOCATION:201 W Franklin, El Paso, TX 79901, US
CATEGORIES:
DESCRIPTION: \n  \n Cinco de Mayo Performance \n  \n  \n  \n Historia, Tradici&oacute;&lt;span 1px=&quot;&quot; border-bottom:=&quot;&quot; class=&quot;NormalTextRun SpellingErrorV2Themed SCXW98634010 BCX0&quot; data:image=&quot;&quot; pc9npjwvc3znpg=&quot;=&quot; ));&quot;=&quot;&quot; solid=&quot;&quot; span=&quot;&quot; style=&quot;margin: 0px; padding: 0px; user-select: text; -webkit-user-drag: none; -webkit-tap-highlight-color: transparent; background-position: 0px 100%; background-repeat: repeat-x; background-image: var(--urlSpellingErrorV2,url(&quot;&gt;n, Alegria: La Batalla de Puebla  \n  \n Presented by Ballet Folkl&oacute;rico Paso del Norte  \n  \n   \n  \n Join Ballet Folkl&oacute;rico Paso del Norte as it takes you on a journey back in time, when French and Mexican troops clashed on May 5th, 1862. Although the French troops outnumbered the Mexican army led by Ignacio Zaragoza, the French were defeated and M&eacute;xico victorious. Through regional dance styles and folklore music, learn about how the Battle of Puebla became a symbol of national sovereignty and resistance for the country of M&eacute;xico. Directed by Rodolfo Hernandez.  \n  \n  \n  \n Two shows:  \n  \n &bull; 3 pm &amp; 4:45 pm  \n  \n &bull; MACC Blackbox Theatre  \n  \n &bull; All ages  \n  \n &bull; Free, but ticket required at entry  \n  \n &bull; Limited capacity, no walk-ins allowed  \n  \n &bull; Reserve your tickets for free here: \n 
SUMMARY:Performance: Historia, Tradición, Alegria, LA BATALLA DE PUEBLA • Presented by Ballet Folklórico PDN
PRIORITY:5
BEGIN:VALARM
TRIGGER:PT15M
ACTION:DISPLAY
DESCRIPTION:Reminder
PRIORITY:5
END:VALARM
END:VEVENT
END:VCALENDAR
