BEGIN:VCALENDAR
METHOD:PUBLISH
PRODID:-//doubleknot.com//CalenderEvent MIMEDIR//EN
VERSION:2.0
BEGIN:VEVENT
UID:3143820-20260509T213000Z-20260509T220000Z@doubleknot.com
CREATED:20260417T201123Z
LAST-MODIFIED:20260418T212011Z
DTSTAMP:20260422T155327Z
DTSTART:20260509T213000Z
DTEND:20260509T220000Z
LOCATION:201 W. Franklin Ave., El Paso, TX 79901, US
CATEGORIES:
DESCRIPTION: \n  \n  \n  \n Reserve Your Seat! \n  \n  \n Space is strictly limited for this exclusive rooftop experience. \n  \n  \n Join us on the 3rd Floor Terrace for an evening under the stars as Chef Regina Logar prepares a stunning menu highlighting the vibrant, soulful flavors of Puebla. From the complex traditions of Central Mexico to the freshest sustainable catches, this is a culinary event you won&rsquo;t want to miss. \n  \n  \n Select Your Experience: \n  \n VIP Admission | $75.00 per person Limit 2 tickets per registered guest. Begin your afternoon with &quot;Sacred Flavors of Puebla,&quot; an intimate conversation with Chef Regina Logar in our 1st Floor Teaching Kitchen (3:30 PM &ndash; 4:00 PM). This is a rare opportunity to: \n  \n  \n  \n 	 \n 	Hear the personal stories behind the recipes. \n  \n 	 \n 	 \n 	Discuss the vital importance of sustainable seafood sourcing. \n  \n 	 \n 	 \n 	Engage in a Q&amp;A on merging modern technique with Mexican tradition. \n  \n 	 \n 	 \n 	Includes full access to the Dinner Service at 6:00 PM. \n  \n 	 \n  \n  \n General Admission | $50.00 per person Limit 2 tickets per registered guest. Join us on the 3rd Floor Terrace from 6:00 PM &ndash; 8:00 PM for a full-service Featured Menu Dinner. Enjoy the breeze and the bold flavors of Puebla in a beautiful alfresco setting. \n  \n  \n  \n  \n Note: Dinner service is weather permitting. In the event of inclement weather, an alternative indoor space will be provided. \n  \n  \n  \n Book your tickets now to secure your seat! \n 
SUMMARY:Sabores de Puebla Dinner General Admission / VIP Ticket Chef Table Talk : Scared Flavors of Puebla
PRIORITY:5
BEGIN:VALARM
TRIGGER:PT15M
ACTION:DISPLAY
DESCRIPTION:Reminder
PRIORITY:5
END:VALARM
END:VEVENT
END:VCALENDAR
